BEGIN:VCALENDAR
VERSION:2.0
PRODID:-//Vermont Golf Association - ECPv6.15.20//NONSGML v1.0//EN
CALSCALE:GREGORIAN
METHOD:PUBLISH
X-ORIGINAL-URL:https://www.vtga.org
X-WR-CALDESC:Events for Vermont Golf Association
REFRESH-INTERVAL;VALUE=DURATION:PT1H
X-Robots-Tag:noindex
X-PUBLISHED-TTL:PT1H
BEGIN:VTIMEZONE
TZID:America/New_York
BEGIN:DAYLIGHT
TZOFFSETFROM:-0500
TZOFFSETTO:-0400
TZNAME:EDT
DTSTART:20240310T070000
END:DAYLIGHT
BEGIN:STANDARD
TZOFFSETFROM:-0400
TZOFFSETTO:-0500
TZNAME:EST
DTSTART:20241103T060000
END:STANDARD
BEGIN:DAYLIGHT
TZOFFSETFROM:-0500
TZOFFSETTO:-0400
TZNAME:EDT
DTSTART:20250309T070000
END:DAYLIGHT
BEGIN:STANDARD
TZOFFSETFROM:-0400
TZOFFSETTO:-0500
TZNAME:EST
DTSTART:20251102T060000
END:STANDARD
BEGIN:DAYLIGHT
TZOFFSETFROM:-0500
TZOFFSETTO:-0400
TZNAME:EDT
DTSTART:20260308T070000
END:DAYLIGHT
BEGIN:STANDARD
TZOFFSETFROM:-0400
TZOFFSETTO:-0500
TZNAME:EST
DTSTART:20261101T060000
END:STANDARD
END:VTIMEZONE
BEGIN:VEVENT
DTSTART;VALUE=DATE:20250617
DTEND;VALUE=DATE:20250618
DTSTAMP:20260420T153906
CREATED:20250201T004548Z
LAST-MODIFIED:20250218T215652Z
UID:2227-1750118400-1750204799@www.vtga.org
SUMMARY:Vermont Amateur Championship Qualifier - Country Club of Barre
DESCRIPTION:Registration Opens:  March 15th\, 2025\nIndividual Gross\nTournament Information\nVGA Rules & Regulations\nTee Sheet\nResults
URL:https://www.vtga.org/event/vermont-amateur-championship-qualifier-country-club-of-barre/
LOCATION:Country Club of Barre\, 142 Drake Rd.\, Barre\, 05641\, United States
CATEGORIES:Vermont Amateur Qualifier
END:VEVENT
BEGIN:VEVENT
DTSTART;VALUE=DATE:20250612
DTEND;VALUE=DATE:20250613
DTSTAMP:20260420T153906
CREATED:20250201T005111Z
LAST-MODIFIED:20250201T005111Z
UID:2286-1749686400-1749772799@www.vtga.org
SUMMARY:Orleans Country Club - State Day
DESCRIPTION:Registration Opens: March 15th\, 2025\nIndividual Gross & Net (Flighted by Handicap) \nSkins (Optional)\nTournament Information\nVGA Rules & Regulations\nTee Sheet\nResults
URL:https://www.vtga.org/event/orleans-country-club-state-day/
LOCATION:Orleans Country Club\, 316 Country Club Lane\, Orleans\, 05860\, United States
CATEGORIES:State Day
END:VEVENT
BEGIN:VEVENT
DTSTART;VALUE=DATE:20250611
DTEND;VALUE=DATE:20250612
DTSTAMP:20260420T153906
CREATED:20250201T005239Z
LAST-MODIFIED:20250201T005239Z
UID:2224-1749600000-1749686399@www.vtga.org
SUMMARY:Newport Country Club - State Day
DESCRIPTION:Registration Opens: March 15th\, 2025\nIndividual Gross & Net (Flighted by Handicap) \nSkins (Optional)\nTournament Information\nVGA Rules & Regulations\nTee Sheet\nResults
URL:https://www.vtga.org/event/newport-country-club-state-day/
LOCATION:Newport Country Club\, 590 Mount Vernon St.\, Newport\, VT\, 05855\, United States
CATEGORIES:State Day
END:VEVENT
BEGIN:VEVENT
DTSTART;VALUE=DATE:20250609
DTEND;VALUE=DATE:20250610
DTSTAMP:20260420T153906
CREATED:20250201T004623Z
LAST-MODIFIED:20250218T215214Z
UID:2221-1749427200-1749513599@www.vtga.org
SUMMARY:Vermont Amateur Championship Qualifier - Mt. Anthony Country Club
DESCRIPTION:Registration Opens: March 15th\, 2025\nIndividual Gross\nTournament Information\nVGA Rules & Regulations\nTee Sheet\nResults
URL:https://www.vtga.org/event/vermont-amateur-championship-qualifier-mt-anthony-country-club/
LOCATION:Mt. Anthony Country Club\, 180 Country Club Dr.\, Bennington\, VT\, 05201\, United States
CATEGORIES:Vermont Amateur Qualifier
END:VEVENT
BEGIN:VEVENT
DTSTART;VALUE=DATE:20250605
DTEND;VALUE=DATE:20250606
DTSTAMP:20260420T153906
CREATED:20250201T005411Z
LAST-MODIFIED:20250218T215241Z
UID:2218-1749081600-1749167999@www.vtga.org
SUMMARY:Green Mountain National - State Day
DESCRIPTION:Lottery Opens: March 15th\, 2025\nIndividual Gross & Net\nSkins (Optional)\nTournament Information\nVGA Rules & Regulations\nTee Sheet\nResults
URL:https://www.vtga.org/event/green-mountain-national-state-day/
LOCATION:Green Mountain National\, 476 Barrows Towne Rd.\, Killington\, 05751\, United States
CATEGORIES:State Day
END:VEVENT
BEGIN:VEVENT
DTSTART;VALUE=DATE:20250603
DTEND;VALUE=DATE:20250604
DTSTAMP:20260420T153906
CREATED:20250201T005652Z
LAST-MODIFIED:20250201T005652Z
UID:2215-1748908800-1748995199@www.vtga.org
SUMMARY:Champlain Country Club - State Day
DESCRIPTION:Registration Opens: March 15th\, 2025\nIndividual Gross & Net (Flighted by Handicap) \nSkins (Optional)\nTournament Information\nVGA Rules & Regulations\nTee Sheet\nResults
URL:https://www.vtga.org/event/champlain-country-club-state-day/
LOCATION:Champlain Country Club\, 581 St. Albans Rd.\, Swanton\, 05488\, United States
CATEGORIES:State Day
END:VEVENT
BEGIN:VEVENT
DTSTART;VALUE=DATE:20250530
DTEND;VALUE=DATE:20250531
DTSTAMP:20260420T153906
CREATED:20250201T005740Z
LAST-MODIFIED:20250201T005740Z
UID:2029-1748563200-1748649599@www.vtga.org
SUMMARY:Country Club of Vermont Stroke-Play Championship
DESCRIPTION:Registration Opens: March 15th\, 2025\nIndividual Gross (Overall & Senior Divisions)\nTournament Information\nVGA Rules & Regulations\nTee Sheet\nResults
URL:https://www.vtga.org/event/country-club-of-vermont-stroke-play-championship/
LOCATION:Country Club of Vermont\, 2800 Country Club Rd.\, Waterbury Center\, 05677\, United States
CATEGORIES:Stroke Play Series
END:VEVENT
BEGIN:VEVENT
DTSTART;VALUE=DATE:20250528
DTEND;VALUE=DATE:20250529
DTSTAMP:20260420T153906
CREATED:20250201T005844Z
LAST-MODIFIED:20250201T005844Z
UID:2026-1748390400-1748476799@www.vtga.org
SUMMARY:Montague Golf Club - State Day
DESCRIPTION:Registration Opens: March 15th\, 2025\nIndividual Gross & Net (Flighted by Handicap) \nSkins (Optional)\nTournament Information\nVGA Rules & Regulations\nTee Sheet\nResults
URL:https://www.vtga.org/event/montague-golf-club-state-day/
LOCATION:Montague Golf Club\, 48 Randolph Ave.\, Randolph\, VT\, 05060\, United States
CATEGORIES:State Day
END:VEVENT
BEGIN:VEVENT
DTSTART;VALUE=DATE:20250525
DTEND;VALUE=DATE:20250526
DTSTAMP:20260420T153906
CREATED:20250201T005910Z
LAST-MODIFIED:20250218T215320Z
UID:2023-1748131200-1748217599@www.vtga.org
SUMMARY:Mixed Scotch Championship
DESCRIPTION:Registration Opens: March 15th\, 2025\nTwo-Person Stroke-Play (Scotch)\nTournament Information\nVGA Rules & Regulations\nTee Sheet\nResults
URL:https://www.vtga.org/event/mixed-scotch-championship/
LOCATION:Woodstock Country Club\, 76 South St.\, Woodstock\, VT\, 05091\, United States
CATEGORIES:Major Championship
END:VEVENT
BEGIN:VEVENT
DTSTART;VALUE=DATE:20250524
DTEND;VALUE=DATE:20250525
DTSTAMP:20260420T153906
CREATED:20250201T010018Z
LAST-MODIFIED:20250201T010018Z
UID:2018-1748044800-1748131199@www.vtga.org
SUMMARY:Sugarbush Resort Golf Club - State Day
DESCRIPTION:Registration Opens: March 15th\, 2025\nIndividual Gross & Net (Flighted by Handicap) \nSkins (Optional)\nTournament Information\nVGA Rules & Regulations\nTee Sheet\nResults
URL:https://www.vtga.org/event/sugarbush-resort-golf-club-state-day/
LOCATION:Sugarbush Resort\, 1091 Golf Course Rd.\, Warren\, 05674\, United States
CATEGORIES:State Day
END:VEVENT
BEGIN:VEVENT
DTSTART;VALUE=DATE:20250521
DTEND;VALUE=DATE:20250522
DTSTAMP:20260420T153906
CREATED:20250201T010131Z
LAST-MODIFIED:20250201T010131Z
UID:2017-1747785600-1747871999@www.vtga.org
SUMMARY:Rutland Country Club - State Day
DESCRIPTION:Registration Opens: March 15th\, 2025\nIndividual Gross & Net (Flighted by Handicap) \nSkins (Optional)\nTournament Information\nVGA Rules & Regulations\nTee Sheet\nResults
URL:https://www.vtga.org/event/rutland-country-club-state-day/
LOCATION:Rutland Country Club\, 275 Grove St.\, Rutland\, 05701\, United States
CATEGORIES:State Day
END:VEVENT
BEGIN:VEVENT
DTSTART;VALUE=DATE:20250519
DTEND;VALUE=DATE:20250520
DTSTAMP:20260420T153906
CREATED:20250201T010408Z
LAST-MODIFIED:20250201T010408Z
UID:2014-1747612800-1747699199@www.vtga.org
SUMMARY:Ralph Myhre - State Day
DESCRIPTION:Registration Opens: March 15th\, 2025\nIndividual Gross & Net (Flighted by Handicap) \nSkins (Optional)\nTournament Information\nVGA Rules & Regulations\nTee Sheet\nResults
URL:https://www.vtga.org/event/ralph-myhre-state-day/
LOCATION:Ralph Myhre\, 317 Golf Course Rd.\, Middlebury\, VT\, 05753\, United States
CATEGORIES:State Day
END:VEVENT
BEGIN:VEVENT
DTSTART;VALUE=DATE:20250517
DTEND;VALUE=DATE:20250519
DTSTAMP:20260420T153906
CREATED:20250201T010246Z
LAST-MODIFIED:20250201T010246Z
UID:2011-1747440000-1747612799@www.vtga.org
SUMMARY:Manchester Country Club Spring Classic
DESCRIPTION:Registration Opens: March 15th\, 2025\nIndividual Gross (Overall & Senior Divisions)\nTournament Information\nVGA Rules & Regulations\nTee Sheet\nResults
URL:https://www.vtga.org/event/manchester-country-club-spring-classic/
LOCATION:Manchester Country Club\, 229 Beech St.\, Manchester\, VT\, 05255\, United States
CATEGORIES:Stroke Play Series
END:VEVENT
BEGIN:VEVENT
DTSTART;VALUE=DATE:20250515
DTEND;VALUE=DATE:20250516
DTSTAMP:20260420T153906
CREATED:20250201T010516Z
LAST-MODIFIED:20250201T023419Z
UID:2007-1747267200-1747353599@www.vtga.org
SUMMARY:Links at Lang Farm - State Day
DESCRIPTION:Registration Opens: March 15th\, 2025\nIndividual Gross & Net (Flighted by Handicap) \nSkins (Optional)\nTournament Information\nVGA Rules & Regulations\nTee Sheet\nResults
URL:https://www.vtga.org/event/links-at-lang-farm-state-day/
LOCATION:Links at Lang Farm\, 39 Essex Way\, Essex\, 05452\, United States
CATEGORIES:State Day
END:VEVENT
BEGIN:VEVENT
DTSTART;VALUE=DATE:20250512
DTEND;VALUE=DATE:20250513
DTSTAMP:20260420T153906
CREATED:20250201T010632Z
LAST-MODIFIED:20250218T215402Z
UID:2003-1747008000-1747094399@www.vtga.org
SUMMARY:The Quechee Club (Highland) - State Day
DESCRIPTION:Lottery Opens: March 15th\, 2025\nIndividual Gross & Net\nSkins (Optional)\nTournament Information\nVGA Rules & Regulations\nTee Sheet\nResults
URL:https://www.vtga.org/event/the-quechee-club-highland-state-day/
LOCATION:The Quechee Club\, 3268 Quechee Main St.\, Quechee\, VT\, 05059\, United States
CATEGORIES:State Day
END:VEVENT
BEGIN:VEVENT
DTSTART;VALUE=DATE:20250508
DTEND;VALUE=DATE:20250509
DTSTAMP:20260420T153906
CREATED:20250201T010729Z
LAST-MODIFIED:20250218T215600Z
UID:1981-1746662400-1746748799@www.vtga.org
SUMMARY:Williston Golf Club - State Day
DESCRIPTION:Registration Opens: March 15th\, 2025\nIndividual Gross & Net\nSkins (Optional)\nTournament Information\nVGA Rules & Regulations\nTee Sheet\nResults
URL:https://www.vtga.org/event/williston-golf-club-state-day/
LOCATION:Williston Golf Club\, 424 Golf Course Rd\, Williston\, 05495\, United States
CATEGORIES:State Day
END:VEVENT
BEGIN:VEVENT
DTSTART;VALUE=DATE:20250506
DTEND;VALUE=DATE:20250507
DTSTAMP:20260420T153906
CREATED:20250201T011059Z
LAST-MODIFIED:20250218T215430Z
UID:1978-1746489600-1746575999@www.vtga.org
SUMMARY:Fox Run Golf Club - State Day
DESCRIPTION:Lottery Opens: March 15th\, 2025\nIndividual Gross & Net\nSkins (Optional)\nTournament Information\nVGA Rules & Regulations\nTee Sheet\nResults
URL:https://www.vtga.org/event/fox-run-golf-club-state-day/
LOCATION:Fox Run Golf Club\, 89 Fox Ln Ext\, Ludlow\, VT\, 05149\, United States
CATEGORIES:State Day
END:VEVENT
BEGIN:VEVENT
DTSTART;VALUE=DATE:20250505
DTEND;VALUE=DATE:20250506
DTSTAMP:20260420T153906
CREATED:20250201T011144Z
LAST-MODIFIED:20250218T215449Z
UID:1975-1746403200-1746489599@www.vtga.org
SUMMARY:Burlington Country Club - State Day
DESCRIPTION:Lottery Opens: March 15th\, 2025\nIndividual Gross & Net\nSkins (Optional)\nTournament Information\nVGA Rules & Regulations\nTee Sheet\nResults
URL:https://www.vtga.org/event/burlington-country-club-state-day/
LOCATION:Burlington Country Club\, 568 S Prospect St.\, Burlington\, 05401\, United States
CATEGORIES:State Day
END:VEVENT
BEGIN:VEVENT
DTSTART;VALUE=DATE:20250503
DTEND;VALUE=DATE:20250505
DTSTAMP:20260420T153906
CREATED:20250201T011235Z
LAST-MODIFIED:20250218T215513Z
UID:1972-1746230400-1746403199@www.vtga.org
SUMMARY:Vermont Spring Four-Ball Championship
DESCRIPTION:Registration Opens: March 15th\, 2025\n1 Best Ball of 2 \nSkins (Optional)\nTournament Information\nVGA Rules & Regulations\nTee Sheet\nResults\n 
URL:https://www.vtga.org/event/vermont-spring-four-ball-championship/
LOCATION:Various Locations
CATEGORIES:Major Championship
END:VEVENT
BEGIN:VEVENT
DTSTART;VALUE=DATE:20250426
DTEND;VALUE=DATE:20250427
DTSTAMP:20260420T153906
CREATED:20250201T011316Z
LAST-MODIFIED:20250201T011316Z
UID:1970-1745625600-1745711999@www.vtga.org
SUMMARY:Proctor-Pittsford Country Club - State Day
DESCRIPTION:Registration Opens: March 14th\, 2025\nIndividual Gross & Net (Flighted by Handicap) \nSkins (Optional)\nTournament Information\nVGA Rules & Regulations\nTee Sheet\nResults
URL:https://www.vtga.org/event/proctor-pittsford-country-club-state-day/
LOCATION:Proctor-Pittsford Country Club\, 311 Country Club Dr\, Pittsford\, VT\, 05763\, United States
CATEGORIES:State Day
END:VEVENT
BEGIN:VEVENT
DTSTART;VALUE=DATE:20250312
DTEND;VALUE=DATE:20250326
DTSTAMP:20260420T153906
CREATED:20241220T163110Z
LAST-MODIFIED:20241220T165129Z
UID:1955-1741737600-1742947199@www.vtga.org
SUMMARY:Indoor Golf Winter Series - Blackhawk Country Club (Gonzo's HD Sports)
DESCRIPTION:2-Person Scramble\nREGISTER NOW
URL:https://www.vtga.org/event/indoor-golf-winter-series-blackhawk-country-club-gonzos-hd-sports/
LOCATION:Gonzo’s HD Sport\, 1860 Williston Rd\, South Burlington\, 05403\, United States
CATEGORIES:Indoor Golf Winter Series
ATTACH;FMTTYPE=image/png:https://www.vtga.org/wp-content/uploads/2024/12/12.png
END:VEVENT
BEGIN:VEVENT
DTSTART;VALUE=DATE:20250312
DTEND;VALUE=DATE:20250326
DTSTAMP:20260420T153906
CREATED:20241220T060915Z
LAST-MODIFIED:20241220T144511Z
UID:1909-1741737600-1742947199@www.vtga.org
SUMMARY:Indoor Golf Winter Series - Spyglass Hill (Stonehedge)
DESCRIPTION:2-Person Scramble\nREGISTER NOW
URL:https://www.vtga.org/event/indoor-golf-winter-series-spyglass-hill-stonehedge/
LOCATION:Stonehedge Indoor Golf\, 172 South Main Street\, Rutland\, VT\, 05701\, United States
CATEGORIES:Indoor Golf Winter Series
END:VEVENT
BEGIN:VEVENT
DTSTART;VALUE=DATE:20250226
DTEND;VALUE=DATE:20250312
DTSTAMP:20260420T153906
CREATED:20241220T162932Z
LAST-MODIFIED:20241220T165107Z
UID:1953-1740528000-1741737599@www.vtga.org
SUMMARY:Indoor Golf Winter Series - Shooting Star (Gonzo's HD Sports)
DESCRIPTION:2-Person Scramble\nREGISTER NOW
URL:https://www.vtga.org/event/indoor-golf-winter-series-shooting-star-gonzos-hd-sports/
LOCATION:Gonzo’s HD Sport\, 1860 Williston Rd\, South Burlington\, 05403\, United States
CATEGORIES:Indoor Golf Winter Series
ATTACH;FMTTYPE=image/png:https://www.vtga.org/wp-content/uploads/2024/12/11.png
END:VEVENT
BEGIN:VEVENT
DTSTART;VALUE=DATE:20250226
DTEND;VALUE=DATE:20250312
DTSTAMP:20260420T153906
CREATED:20241220T061000Z
LAST-MODIFIED:20241220T144429Z
UID:1907-1740528000-1741737599@www.vtga.org
SUMMARY:Indoor Golf Winter Series - White Eagle Country Club (Stonehedge)
DESCRIPTION:2-Person Scramble\nREGISTER NOW
URL:https://www.vtga.org/event/indoor-golf-winter-series-white-eagle-country-club-stonehedge/
LOCATION:Stonehedge Indoor Golf\, 172 South Main Street\, Rutland\, VT\, 05701\, United States
CATEGORIES:Indoor Golf Winter Series
ATTACH;FMTTYPE=image/png:https://www.vtga.org/wp-content/uploads/2024/12/5.png
END:VEVENT
BEGIN:VEVENT
DTSTART;VALUE=DATE:20250212
DTEND;VALUE=DATE:20250226
DTSTAMP:20260420T153906
CREATED:20241220T162245Z
LAST-MODIFIED:20241220T165033Z
UID:1951-1739318400-1740527999@www.vtga.org
SUMMARY:Indoor Golf Winter Series - Bay Harbor Golf Club (Gonzo's HD Sports)
DESCRIPTION:2-Person Scramble\nREGISTER NOW
URL:https://www.vtga.org/event/indoor-golf-winter-series-bay-harbor-golf-club-gonzos-hd-sports/
LOCATION:Gonzo’s HD Sport\, 1860 Williston Rd\, South Burlington\, 05403\, United States
CATEGORIES:Indoor Golf Winter Series
ATTACH;FMTTYPE=image/png:https://www.vtga.org/wp-content/uploads/2024/12/10.png
END:VEVENT
BEGIN:VEVENT
DTSTART;VALUE=DATE:20250212
DTEND;VALUE=DATE:20250226
DTSTAMP:20260420T153906
CREATED:20241220T061030Z
LAST-MODIFIED:20241220T144348Z
UID:1905-1739318400-1740527999@www.vtga.org
SUMMARY:Indoor Golf Winter Series - Pine Needles (Stonehedge)
DESCRIPTION:2-Person Scramble\nREGISTER NOW
URL:https://www.vtga.org/event/indoor-golf-winter-series-pine-needles-stonehedge/
LOCATION:Stonehedge Indoor Golf\, 172 South Main Street\, Rutland\, VT\, 05701\, United States
CATEGORIES:Indoor Golf Winter Series
ATTACH;FMTTYPE=image/png:https://www.vtga.org/wp-content/uploads/2024/12/4.png
END:VEVENT
BEGIN:VEVENT
DTSTART;VALUE=DATE:20250129
DTEND;VALUE=DATE:20250212
DTSTAMP:20260420T153906
CREATED:20241220T160935Z
LAST-MODIFIED:20241220T164838Z
UID:1944-1738108800-1739318399@www.vtga.org
SUMMARY:Indoor Golf Winter Series - Liberty National (Gonzo's HD Sports)
DESCRIPTION:2-Person Scramble\nREGISTER NOW
URL:https://www.vtga.org/event/indoor-golf-winter-series-liberty-national-gonzos-hd-sports/
LOCATION:Gonzo’s HD Sport\, 1860 Williston Rd\, South Burlington\, 05403\, United States
CATEGORIES:Indoor Golf Winter Series
ATTACH;FMTTYPE=image/png:https://www.vtga.org/wp-content/uploads/2024/12/9.png
END:VEVENT
BEGIN:VEVENT
DTSTART;VALUE=DATE:20250129
DTEND;VALUE=DATE:20250212
DTSTAMP:20260420T153906
CREATED:20241220T061043Z
LAST-MODIFIED:20241220T144301Z
UID:1900-1738108800-1739318399@www.vtga.org
SUMMARY:Indoor Golf Winter Series - Whistling Straits (Stonehedge)
DESCRIPTION:2-Person Scramble\nREGISTER NOW
URL:https://www.vtga.org/event/indoor-golf-winter-series-whistling-straits-stonehedge/
LOCATION:Stonehedge Indoor Golf\, 172 South Main Street\, Rutland\, VT\, 05701\, United States
CATEGORIES:Indoor Golf Winter Series
ATTACH;FMTTYPE=image/png:https://www.vtga.org/wp-content/uploads/2024/12/3.png
END:VEVENT
BEGIN:VEVENT
DTSTART;VALUE=DATE:20250115
DTEND;VALUE=DATE:20250129
DTSTAMP:20260420T153906
CREATED:20241220T160143Z
LAST-MODIFIED:20241220T164722Z
UID:1940-1736899200-1738108799@www.vtga.org
SUMMARY:Indoor Golf Winter Series - Painted Valley (Gonzo's HD Sports)
DESCRIPTION:2-Person Scramble\nREGISTER NOW
URL:https://www.vtga.org/event/indoor-golf-winter-series-painted-valley-gonzos-hd-sports/
LOCATION:Gonzo’s HD Sport\, 1860 Williston Rd\, South Burlington\, 05403\, United States
CATEGORIES:Indoor Golf Winter Series
ATTACH;FMTTYPE=image/png:https://www.vtga.org/wp-content/uploads/2024/12/8.png
END:VEVENT
BEGIN:VEVENT
DTSTART;VALUE=DATE:20250115
DTEND;VALUE=DATE:20250129
DTSTAMP:20260420T153906
CREATED:20241220T061055Z
LAST-MODIFIED:20241220T144214Z
UID:1903-1736899200-1738108799@www.vtga.org
SUMMARY:Indoor Golf Winter Series - Colorado Golf Club (Stonehedge)
DESCRIPTION:2-Person Scramble\nREGISTER NOW
URL:https://www.vtga.org/event/indoor-golf-winter-series-colorado-golf-club-stonehedge/
LOCATION:Stonehedge Indoor Golf\, 172 South Main Street\, Rutland\, VT\, 05701\, United States
CATEGORIES:Indoor Golf Winter Series
ATTACH;FMTTYPE=image/png:https://www.vtga.org/wp-content/uploads/2024/12/2.png
END:VEVENT
END:VCALENDAR