BEGIN:VCALENDAR
VERSION:2.0
PRODID:-//Vermont Golf Association - ECPv6.15.20//NONSGML v1.0//EN
CALSCALE:GREGORIAN
METHOD:PUBLISH
X-WR-CALNAME:Vermont Golf Association
X-ORIGINAL-URL:https://www.vtga.org
X-WR-CALDESC:Events for Vermont Golf Association
REFRESH-INTERVAL;VALUE=DURATION:PT1H
X-Robots-Tag:noindex
X-PUBLISHED-TTL:PT1H
BEGIN:VTIMEZONE
TZID:America/New_York
BEGIN:DAYLIGHT
TZOFFSETFROM:-0500
TZOFFSETTO:-0400
TZNAME:EDT
DTSTART:20240310T070000
END:DAYLIGHT
BEGIN:STANDARD
TZOFFSETFROM:-0400
TZOFFSETTO:-0500
TZNAME:EST
DTSTART:20241103T060000
END:STANDARD
BEGIN:DAYLIGHT
TZOFFSETFROM:-0500
TZOFFSETTO:-0400
TZNAME:EDT
DTSTART:20250309T070000
END:DAYLIGHT
BEGIN:STANDARD
TZOFFSETFROM:-0400
TZOFFSETTO:-0500
TZNAME:EST
DTSTART:20251102T060000
END:STANDARD
BEGIN:DAYLIGHT
TZOFFSETFROM:-0500
TZOFFSETTO:-0400
TZNAME:EDT
DTSTART:20260308T070000
END:DAYLIGHT
BEGIN:STANDARD
TZOFFSETFROM:-0400
TZOFFSETTO:-0500
TZNAME:EST
DTSTART:20261101T060000
END:STANDARD
END:VTIMEZONE
BEGIN:VEVENT
DTSTART;VALUE=DATE:20250611
DTEND;VALUE=DATE:20250612
DTSTAMP:20260420T165937
CREATED:20250201T005239Z
LAST-MODIFIED:20250201T005239Z
UID:2224-1749600000-1749686399@www.vtga.org
SUMMARY:Newport Country Club - State Day
DESCRIPTION:Registration Opens: March 15th\, 2025\nIndividual Gross & Net (Flighted by Handicap) \nSkins (Optional)\nTournament Information\nVGA Rules & Regulations\nTee Sheet\nResults
URL:https://www.vtga.org/event/newport-country-club-state-day/
LOCATION:Newport Country Club\, 590 Mount Vernon St.\, Newport\, VT\, 05855\, United States
CATEGORIES:State Day
END:VEVENT
BEGIN:VEVENT
DTSTART;VALUE=DATE:20250605
DTEND;VALUE=DATE:20250606
DTSTAMP:20260420T165937
CREATED:20250201T005411Z
LAST-MODIFIED:20250218T215241Z
UID:2218-1749081600-1749167999@www.vtga.org
SUMMARY:Green Mountain National - State Day
DESCRIPTION:Lottery Opens: March 15th\, 2025\nIndividual Gross & Net\nSkins (Optional)\nTournament Information\nVGA Rules & Regulations\nTee Sheet\nResults
URL:https://www.vtga.org/event/green-mountain-national-state-day/
LOCATION:Green Mountain National\, 476 Barrows Towne Rd.\, Killington\, 05751\, United States
CATEGORIES:State Day
END:VEVENT
BEGIN:VEVENT
DTSTART;VALUE=DATE:20250603
DTEND;VALUE=DATE:20250604
DTSTAMP:20260420T165937
CREATED:20250201T005652Z
LAST-MODIFIED:20250201T005652Z
UID:2215-1748908800-1748995199@www.vtga.org
SUMMARY:Champlain Country Club - State Day
DESCRIPTION:Registration Opens: March 15th\, 2025\nIndividual Gross & Net (Flighted by Handicap) \nSkins (Optional)\nTournament Information\nVGA Rules & Regulations\nTee Sheet\nResults
URL:https://www.vtga.org/event/champlain-country-club-state-day/
LOCATION:Champlain Country Club\, 581 St. Albans Rd.\, Swanton\, 05488\, United States
CATEGORIES:State Day
END:VEVENT
BEGIN:VEVENT
DTSTART;VALUE=DATE:20250528
DTEND;VALUE=DATE:20250529
DTSTAMP:20260420T165937
CREATED:20250201T005844Z
LAST-MODIFIED:20250201T005844Z
UID:2026-1748390400-1748476799@www.vtga.org
SUMMARY:Montague Golf Club - State Day
DESCRIPTION:Registration Opens: March 15th\, 2025\nIndividual Gross & Net (Flighted by Handicap) \nSkins (Optional)\nTournament Information\nVGA Rules & Regulations\nTee Sheet\nResults
URL:https://www.vtga.org/event/montague-golf-club-state-day/
LOCATION:Montague Golf Club\, 48 Randolph Ave.\, Randolph\, VT\, 05060\, United States
CATEGORIES:State Day
END:VEVENT
BEGIN:VEVENT
DTSTART;VALUE=DATE:20250524
DTEND;VALUE=DATE:20250525
DTSTAMP:20260420T165937
CREATED:20250201T010018Z
LAST-MODIFIED:20250201T010018Z
UID:2018-1748044800-1748131199@www.vtga.org
SUMMARY:Sugarbush Resort Golf Club - State Day
DESCRIPTION:Registration Opens: March 15th\, 2025\nIndividual Gross & Net (Flighted by Handicap) \nSkins (Optional)\nTournament Information\nVGA Rules & Regulations\nTee Sheet\nResults
URL:https://www.vtga.org/event/sugarbush-resort-golf-club-state-day/
LOCATION:Sugarbush Resort\, 1091 Golf Course Rd.\, Warren\, 05674\, United States
CATEGORIES:State Day
END:VEVENT
BEGIN:VEVENT
DTSTART;VALUE=DATE:20250521
DTEND;VALUE=DATE:20250522
DTSTAMP:20260420T165937
CREATED:20250201T010131Z
LAST-MODIFIED:20250201T010131Z
UID:2017-1747785600-1747871999@www.vtga.org
SUMMARY:Rutland Country Club - State Day
DESCRIPTION:Registration Opens: March 15th\, 2025\nIndividual Gross & Net (Flighted by Handicap) \nSkins (Optional)\nTournament Information\nVGA Rules & Regulations\nTee Sheet\nResults
URL:https://www.vtga.org/event/rutland-country-club-state-day/
LOCATION:Rutland Country Club\, 275 Grove St.\, Rutland\, 05701\, United States
CATEGORIES:State Day
END:VEVENT
BEGIN:VEVENT
DTSTART;VALUE=DATE:20250519
DTEND;VALUE=DATE:20250520
DTSTAMP:20260420T165937
CREATED:20250201T010408Z
LAST-MODIFIED:20250201T010408Z
UID:2014-1747612800-1747699199@www.vtga.org
SUMMARY:Ralph Myhre - State Day
DESCRIPTION:Registration Opens: March 15th\, 2025\nIndividual Gross & Net (Flighted by Handicap) \nSkins (Optional)\nTournament Information\nVGA Rules & Regulations\nTee Sheet\nResults
URL:https://www.vtga.org/event/ralph-myhre-state-day/
LOCATION:Ralph Myhre\, 317 Golf Course Rd.\, Middlebury\, VT\, 05753\, United States
CATEGORIES:State Day
END:VEVENT
BEGIN:VEVENT
DTSTART;VALUE=DATE:20250515
DTEND;VALUE=DATE:20250516
DTSTAMP:20260420T165937
CREATED:20250201T010516Z
LAST-MODIFIED:20250201T023419Z
UID:2007-1747267200-1747353599@www.vtga.org
SUMMARY:Links at Lang Farm - State Day
DESCRIPTION:Registration Opens: March 15th\, 2025\nIndividual Gross & Net (Flighted by Handicap) \nSkins (Optional)\nTournament Information\nVGA Rules & Regulations\nTee Sheet\nResults
URL:https://www.vtga.org/event/links-at-lang-farm-state-day/
LOCATION:Links at Lang Farm\, 39 Essex Way\, Essex\, 05452\, United States
CATEGORIES:State Day
END:VEVENT
BEGIN:VEVENT
DTSTART;VALUE=DATE:20250512
DTEND;VALUE=DATE:20250513
DTSTAMP:20260420T165937
CREATED:20250201T010632Z
LAST-MODIFIED:20250218T215402Z
UID:2003-1747008000-1747094399@www.vtga.org
SUMMARY:The Quechee Club (Highland) - State Day
DESCRIPTION:Lottery Opens: March 15th\, 2025\nIndividual Gross & Net\nSkins (Optional)\nTournament Information\nVGA Rules & Regulations\nTee Sheet\nResults
URL:https://www.vtga.org/event/the-quechee-club-highland-state-day/
LOCATION:The Quechee Club\, 3268 Quechee Main St.\, Quechee\, VT\, 05059\, United States
CATEGORIES:State Day
END:VEVENT
BEGIN:VEVENT
DTSTART;VALUE=DATE:20250508
DTEND;VALUE=DATE:20250509
DTSTAMP:20260420T165937
CREATED:20250201T010729Z
LAST-MODIFIED:20250218T215600Z
UID:1981-1746662400-1746748799@www.vtga.org
SUMMARY:Williston Golf Club - State Day
DESCRIPTION:Registration Opens: March 15th\, 2025\nIndividual Gross & Net\nSkins (Optional)\nTournament Information\nVGA Rules & Regulations\nTee Sheet\nResults
URL:https://www.vtga.org/event/williston-golf-club-state-day/
LOCATION:Williston Golf Club\, 424 Golf Course Rd\, Williston\, 05495\, United States
CATEGORIES:State Day
END:VEVENT
BEGIN:VEVENT
DTSTART;VALUE=DATE:20250506
DTEND;VALUE=DATE:20250507
DTSTAMP:20260420T165937
CREATED:20250201T011059Z
LAST-MODIFIED:20250218T215430Z
UID:1978-1746489600-1746575999@www.vtga.org
SUMMARY:Fox Run Golf Club - State Day
DESCRIPTION:Lottery Opens: March 15th\, 2025\nIndividual Gross & Net\nSkins (Optional)\nTournament Information\nVGA Rules & Regulations\nTee Sheet\nResults
URL:https://www.vtga.org/event/fox-run-golf-club-state-day/
LOCATION:Fox Run Golf Club\, 89 Fox Ln Ext\, Ludlow\, VT\, 05149\, United States
CATEGORIES:State Day
END:VEVENT
BEGIN:VEVENT
DTSTART;VALUE=DATE:20250505
DTEND;VALUE=DATE:20250506
DTSTAMP:20260420T165937
CREATED:20250201T011144Z
LAST-MODIFIED:20250218T215449Z
UID:1975-1746403200-1746489599@www.vtga.org
SUMMARY:Burlington Country Club - State Day
DESCRIPTION:Lottery Opens: March 15th\, 2025\nIndividual Gross & Net\nSkins (Optional)\nTournament Information\nVGA Rules & Regulations\nTee Sheet\nResults
URL:https://www.vtga.org/event/burlington-country-club-state-day/
LOCATION:Burlington Country Club\, 568 S Prospect St.\, Burlington\, 05401\, United States
CATEGORIES:State Day
END:VEVENT
BEGIN:VEVENT
DTSTART;VALUE=DATE:20250426
DTEND;VALUE=DATE:20250427
DTSTAMP:20260420T165937
CREATED:20250201T011316Z
LAST-MODIFIED:20250201T011316Z
UID:1970-1745625600-1745711999@www.vtga.org
SUMMARY:Proctor-Pittsford Country Club - State Day
DESCRIPTION:Registration Opens: March 14th\, 2025\nIndividual Gross & Net (Flighted by Handicap) \nSkins (Optional)\nTournament Information\nVGA Rules & Regulations\nTee Sheet\nResults
URL:https://www.vtga.org/event/proctor-pittsford-country-club-state-day/
LOCATION:Proctor-Pittsford Country Club\, 311 Country Club Dr\, Pittsford\, VT\, 05763\, United States
CATEGORIES:State Day
END:VEVENT
END:VCALENDAR