BEGIN:VCALENDAR
VERSION:2.0
PRODID:-//Vermont Golf Association - ECPv6.15.20//NONSGML v1.0//EN
CALSCALE:GREGORIAN
METHOD:PUBLISH
X-ORIGINAL-URL:https://www.vtga.org
X-WR-CALDESC:Events for Vermont Golf Association
REFRESH-INTERVAL;VALUE=DURATION:PT1H
X-Robots-Tag:noindex
X-PUBLISHED-TTL:PT1H
BEGIN:VTIMEZONE
TZID:America/New_York
BEGIN:DAYLIGHT
TZOFFSETFROM:-0500
TZOFFSETTO:-0400
TZNAME:EDT
DTSTART:20240310T070000
END:DAYLIGHT
BEGIN:STANDARD
TZOFFSETFROM:-0400
TZOFFSETTO:-0500
TZNAME:EST
DTSTART:20241103T060000
END:STANDARD
BEGIN:DAYLIGHT
TZOFFSETFROM:-0500
TZOFFSETTO:-0400
TZNAME:EDT
DTSTART:20250309T070000
END:DAYLIGHT
BEGIN:STANDARD
TZOFFSETFROM:-0400
TZOFFSETTO:-0500
TZNAME:EST
DTSTART:20251102T060000
END:STANDARD
BEGIN:DAYLIGHT
TZOFFSETFROM:-0500
TZOFFSETTO:-0400
TZNAME:EDT
DTSTART:20260308T070000
END:DAYLIGHT
BEGIN:STANDARD
TZOFFSETFROM:-0400
TZOFFSETTO:-0500
TZNAME:EST
DTSTART:20261101T060000
END:STANDARD
END:VTIMEZONE
BEGIN:VEVENT
DTSTART;VALUE=DATE:20250910
DTEND;VALUE=DATE:20250913
DTSTAMP:20260420T165829
CREATED:20250201T001833Z
LAST-MODIFIED:20250305T140320Z
UID:2272-1757462400-1757721599@www.vtga.org
SUMMARY:2025 Vermont Senior Amateur Championship
DESCRIPTION:Registration Opens: March 15th\, 2025\nIndividual Stroke-Play\nTournament Information\nVGA Rules & Regulations\nExempt Players\nTee Sheet\nResults
URL:https://www.vtga.org/event/2025-vermont-senior-amateur-championship/
LOCATION:Woodstock Country Club\, 76 South St.\, Woodstock\, VT\, 05091\, United States
CATEGORIES:Major Championship
END:VEVENT
BEGIN:VEVENT
DTSTART;VALUE=DATE:20250820
DTEND;VALUE=DATE:20250822
DTSTAMP:20260420T165829
CREATED:20250201T002030Z
LAST-MODIFIED:20250218T214901Z
UID:2262-1755648000-1755820799@www.vtga.org
SUMMARY:Senior Four-Ball Championship
DESCRIPTION:Registration Opens: March 15th\, 2025\nStroke-Play (1 Best Ball of 2)\nTournament Information\nVGA Rules & Regulations\nTee Sheet\nResults
URL:https://www.vtga.org/event/senior-four-ball-championship/
LOCATION:Neshobe Golf Club\, 224 Town Farm Rd.\, Brandon\, VT\, 05733\, United States
CATEGORIES:Major Championship
END:VEVENT
BEGIN:VEVENT
DTSTART;VALUE=DATE:20250814
DTEND;VALUE=DATE:20250818
DTSTAMP:20260420T165829
CREATED:20250201T002056Z
LAST-MODIFIED:20250305T140231Z
UID:2260-1755129600-1755475199@www.vtga.org
SUMMARY:2025 Vermont Mid-Amateur Championship
DESCRIPTION:Registration Opens: March 15th\, 2025\nStroke-Play Qualifier with Match-Play following.\nTournament Information\nVGA Rules & Regulations\nExempt Players\nTee Sheet\nResults
URL:https://www.vtga.org/event/2025-vermont-mid-amateur-championship/
LOCATION:Burlington Country Club\, 568 S Prospect St.\, Burlington\, 05401\, United States
CATEGORIES:Major Championship
END:VEVENT
BEGIN:VEVENT
DTSTART;VALUE=DATE:20250727
DTEND;VALUE=DATE:20250728
DTSTAMP:20260420T165829
CREATED:20250201T002507Z
LAST-MODIFIED:20250218T214953Z
UID:2249-1753574400-1753660799@www.vtga.org
SUMMARY:Parent & Child Championship
DESCRIPTION:Registration Opens: March 15th\, 2025\nModified Alternate Shot\nTournament Information\nVGA Rules & Regulations\nExempt Players\nTee Sheet\nResults
URL:https://www.vtga.org/event/parent-child-championship/
LOCATION:Links at Lang Farm\, 39 Essex Way\, Essex\, 05452\, United States
CATEGORIES:Major Championship
END:VEVENT
BEGIN:VEVENT
DTSTART;VALUE=DATE:20250713
DTEND;VALUE=DATE:20250714
DTSTAMP:20260420T165829
CREATED:20250201T002757Z
LAST-MODIFIED:20250218T215024Z
UID:2243-1752364800-1752451199@www.vtga.org
SUMMARY:Husband & Wife Championship
DESCRIPTION:Registration Opens: March 15th\, 2025\nModified Alternate Shot\nTournament Information\nVGA Rules & Regulations\nExempt Players\nTee Sheet\nResults
URL:https://www.vtga.org/event/husband-wife-championship/
LOCATION:Orleans Country Club\, 316 Country Club Lane\, Orleans\, 05860\, United States
CATEGORIES:Major Championship
END:VEVENT
BEGIN:VEVENT
DTSTART;VALUE=DATE:20250708
DTEND;VALUE=DATE:20250711
DTSTAMP:20260420T165829
CREATED:20250201T003150Z
LAST-MODIFIED:20250218T215055Z
UID:2239-1751932800-1752191999@www.vtga.org
SUMMARY:2025 Vermont Amateur Championship
DESCRIPTION:Registration Opens: March 15th\, 2025\nIndividual Stroke-Play\nTournament Information\nVGA Rules & Regulations\nExempt Players List\nTee Sheet\nResults
URL:https://www.vtga.org/event/2025-vermont-amateur-championship/
LOCATION:Manchester Country Club\, 229 Beech St.\, Manchester\, VT\, 05255\, United States
CATEGORIES:Major Championship
END:VEVENT
BEGIN:VEVENT
DTSTART;VALUE=DATE:20250525
DTEND;VALUE=DATE:20250526
DTSTAMP:20260420T165829
CREATED:20250201T005910Z
LAST-MODIFIED:20250218T215320Z
UID:2023-1748131200-1748217599@www.vtga.org
SUMMARY:Mixed Scotch Championship
DESCRIPTION:Registration Opens: March 15th\, 2025\nTwo-Person Stroke-Play (Scotch)\nTournament Information\nVGA Rules & Regulations\nTee Sheet\nResults
URL:https://www.vtga.org/event/mixed-scotch-championship/
LOCATION:Woodstock Country Club\, 76 South St.\, Woodstock\, VT\, 05091\, United States
CATEGORIES:Major Championship
END:VEVENT
BEGIN:VEVENT
DTSTART;VALUE=DATE:20250503
DTEND;VALUE=DATE:20250505
DTSTAMP:20260420T165829
CREATED:20250201T011235Z
LAST-MODIFIED:20250218T215513Z
UID:1972-1746230400-1746403199@www.vtga.org
SUMMARY:Vermont Spring Four-Ball Championship
DESCRIPTION:Registration Opens: March 15th\, 2025\n1 Best Ball of 2 \nSkins (Optional)\nTournament Information\nVGA Rules & Regulations\nTee Sheet\nResults\n 
URL:https://www.vtga.org/event/vermont-spring-four-ball-championship/
LOCATION:Various Locations
CATEGORIES:Major Championship
END:VEVENT
END:VCALENDAR